BEGIN:VCALENDAR
VERSION:2.0
PRODID:-//Senioren-Union Hürth - ECPv6.15.20//NONSGML v1.0//EN
CALSCALE:GREGORIAN
METHOD:PUBLISH
X-WR-CALNAME:Senioren-Union Hürth
X-ORIGINAL-URL:https://www.seniorenunion-huerth.de
X-WR-CALDESC:Veranstaltungen für Senioren-Union Hürth
REFRESH-INTERVAL;VALUE=DURATION:PT1H
X-Robots-Tag:noindex
X-PUBLISHED-TTL:PT1H
BEGIN:VTIMEZONE
TZID:Europe/Berlin
BEGIN:DAYLIGHT
TZOFFSETFROM:+0100
TZOFFSETTO:+0200
TZNAME:CEST
DTSTART:20240331T010000
END:DAYLIGHT
BEGIN:STANDARD
TZOFFSETFROM:+0200
TZOFFSETTO:+0100
TZNAME:CET
DTSTART:20241027T010000
END:STANDARD
BEGIN:DAYLIGHT
TZOFFSETFROM:+0100
TZOFFSETTO:+0200
TZNAME:CEST
DTSTART:20250330T010000
END:DAYLIGHT
BEGIN:STANDARD
TZOFFSETFROM:+0200
TZOFFSETTO:+0100
TZNAME:CET
DTSTART:20251026T010000
END:STANDARD
BEGIN:DAYLIGHT
TZOFFSETFROM:+0100
TZOFFSETTO:+0200
TZNAME:CEST
DTSTART:20260329T010000
END:DAYLIGHT
BEGIN:STANDARD
TZOFFSETFROM:+0200
TZOFFSETTO:+0100
TZNAME:CET
DTSTART:20261025T010000
END:STANDARD
END:VTIMEZONE
BEGIN:VEVENT
DTSTART;TZID=Europe/Berlin:20250528T150000
DTEND;TZID=Europe/Berlin:20250528T180000
DTSTAMP:20260424T073004
CREATED:20250503T152533Z
LAST-MODIFIED:20250503T152744Z
UID:3602-1748444400-1748455200@www.seniorenunion-huerth.de
SUMMARY:Der Seniorenfilmabend
DESCRIPTION:Gezeigt wird der Film „In den Schuhen des Fischers“ nach einem Roman von Morris L. West \n\n\n\n\n\nLiebe Senioren-Union Hürth\,diesmal möchten wir Ihnen eine unpolitische Veranstaltung anbieten.Unter dem Motto“ Kino-Erlebnis wie in den 1970er Jahre“ bieten wir Ihnen einengemütlichen Seniorenfilmabend an.Die CP Lichtspielfreunde Hürth von 2016 e.V. werden am 28. Mai 2025 den besonderenFilm „In den Schuhen des Fischers“ anbieten.Der Spielfilm aus dem Jahr 1968\, nach einem Roman von Morris L. West\, unter derRegie von Michael Anderson und der Starbesetzung mit Anthony Quinn\, Vittorio DeSica und Laurenz Olivier ist auch in der heutigen Zeit noch aktuell und sehenswert. \n\n\n\nTermin: Mittwoch 28.Mai 2025\, von 15:00 bis 18:30 UhrOrt : CP Lichtspielfreunde Hürth\, Bachstr. 57\, Hürth-EfferenKosten : 5\,00€ pro Person (Film und Snack) \n\n\n\nAnfahrt : ÖPNV Bus 712 bis Haltestelle Ahl Schull/VHS oder Moselstr.\,von dort 5 Minuten Fußweg.Mit dem PKW wäre der Parkplatz Renneberg empfehlenswert. \n\n\n\nBitte melden Sie Ihre Teilnahme bei Thomas Blank (Tel. 02233-691009) oderper E-Mail unter : tw.blank@t-online.de an. Die Teilnehmerzahl ist auf 24 Personenbeschränkt. Es zählt die Reihenfolge des Eingangs. \n\n\n\nBei Bedarf (wegen hoher Beteiligung) wird es einen weiteren Kino-Abend geben.Über Ihre Teilnahme würden wir uns sehr freuen. \n\n\n\nMit freundlichen Grüßen – im Namen des Vorstands
URL:https://www.seniorenunion-huerth.de/event/der-seniorenfilmabend/
END:VEVENT
END:VCALENDAR