BEGIN:VCALENDAR
VERSION:2.0
PRODID:-//Senioren-Union Hürth - ECPv6.15.20//NONSGML v1.0//EN
CALSCALE:GREGORIAN
METHOD:PUBLISH
X-ORIGINAL-URL:https://www.seniorenunion-huerth.de
X-WR-CALDESC:Veranstaltungen für Senioren-Union Hürth
REFRESH-INTERVAL;VALUE=DURATION:PT1H
X-Robots-Tag:noindex
X-PUBLISHED-TTL:PT1H
BEGIN:VTIMEZONE
TZID:Europe/Berlin
BEGIN:DAYLIGHT
TZOFFSETFROM:+0100
TZOFFSETTO:+0200
TZNAME:CEST
DTSTART:20250330T010000
END:DAYLIGHT
BEGIN:STANDARD
TZOFFSETFROM:+0200
TZOFFSETTO:+0100
TZNAME:CET
DTSTART:20251026T010000
END:STANDARD
BEGIN:DAYLIGHT
TZOFFSETFROM:+0100
TZOFFSETTO:+0200
TZNAME:CEST
DTSTART:20260329T010000
END:DAYLIGHT
BEGIN:STANDARD
TZOFFSETFROM:+0200
TZOFFSETTO:+0100
TZNAME:CET
DTSTART:20261025T010000
END:STANDARD
BEGIN:DAYLIGHT
TZOFFSETFROM:+0100
TZOFFSETTO:+0200
TZNAME:CEST
DTSTART:20270328T010000
END:DAYLIGHT
BEGIN:STANDARD
TZOFFSETFROM:+0200
TZOFFSETTO:+0100
TZNAME:CET
DTSTART:20271031T010000
END:STANDARD
END:VTIMEZONE
BEGIN:VEVENT
DTSTART;TZID=Europe/Berlin:20260225T150000
DTEND;TZID=Europe/Berlin:20260225T170000
DTSTAMP:20260423T163727
CREATED:20260113T122731Z
LAST-MODIFIED:20260113T122824Z
UID:3833-1772031600-1772038800@www.seniorenunion-huerth.de
SUMMARY:Einladung zur Jahreshauptversammlung
DESCRIPTION:Die Veranstaltung findet im Schützenheim der St. Hubertus Bruderschaft in Hürth Hermülheim Kölnstraße statt. Die Einladung erfolgt wie gewohnt per E-Mail oder per Post!
URL:https://www.seniorenunion-huerth.de/event/einladung-zur-jahreshauptversammlung/
END:VEVENT
END:VCALENDAR