BEGIN:VCALENDAR
VERSION:2.0
PRODID:-//Senioren-Union Hürth - ECPv6.15.20//NONSGML v1.0//EN
CALSCALE:GREGORIAN
METHOD:PUBLISH
X-ORIGINAL-URL:https://www.seniorenunion-huerth.de
X-WR-CALDESC:Veranstaltungen für Senioren-Union Hürth
REFRESH-INTERVAL;VALUE=DURATION:PT1H
X-Robots-Tag:noindex
X-PUBLISHED-TTL:PT1H
BEGIN:VTIMEZONE
TZID:Europe/Berlin
BEGIN:DAYLIGHT
TZOFFSETFROM:+0100
TZOFFSETTO:+0200
TZNAME:CEST
DTSTART:20240331T010000
END:DAYLIGHT
BEGIN:STANDARD
TZOFFSETFROM:+0200
TZOFFSETTO:+0100
TZNAME:CET
DTSTART:20241027T010000
END:STANDARD
BEGIN:DAYLIGHT
TZOFFSETFROM:+0100
TZOFFSETTO:+0200
TZNAME:CEST
DTSTART:20250330T010000
END:DAYLIGHT
BEGIN:STANDARD
TZOFFSETFROM:+0200
TZOFFSETTO:+0100
TZNAME:CET
DTSTART:20251026T010000
END:STANDARD
BEGIN:DAYLIGHT
TZOFFSETFROM:+0100
TZOFFSETTO:+0200
TZNAME:CEST
DTSTART:20260329T010000
END:DAYLIGHT
BEGIN:STANDARD
TZOFFSETFROM:+0200
TZOFFSETTO:+0100
TZNAME:CET
DTSTART:20261025T010000
END:STANDARD
END:VTIMEZONE
BEGIN:VEVENT
DTSTART;TZID=Europe/Berlin:20250812T100000
DTEND;TZID=Europe/Berlin:20250812T120000
DTSTAMP:20260424T023437
CREATED:20250709T142753Z
LAST-MODIFIED:20250709T142757Z
UID:3698-1754992800-1755000000@www.seniorenunion-huerth.de
SUMMARY:Vorstandssitzung der Senioren Union im Anna Haus\, Besprechungsraum
DESCRIPTION:
URL:https://www.seniorenunion-huerth.de/event/vorstandssitzung-der-senioren-union-im-anna-haus-besprechungsraum/
END:VEVENT
BEGIN:VEVENT
DTSTART;TZID=Europe/Berlin:20250830T120000
DTEND;TZID=Europe/Berlin:20250830T160000
DTSTAMP:20260424T023437
CREATED:20250816T105211Z
LAST-MODIFIED:20250816T105337Z
UID:3714-1756555200-1756569600@www.seniorenunion-huerth.de
SUMMARY:Einladung zum politischen Frühschoppen
DESCRIPTION:Veranstaltungsort ist der Prinzenhof in Alstädten/Burbach\, zur Gotteshülfe! \n\n\n\nDie Einladung hierzu ist bereits per E-Mail oder auf dem Postwege erfolgt!
URL:https://www.seniorenunion-huerth.de/event/einladung-zum-politischen-fruehschoppen/
END:VEVENT
END:VCALENDAR