BEGIN:VCALENDAR
VERSION:2.0
PRODID:-//Senioren-Union Hürth - ECPv6.15.20//NONSGML v1.0//EN
CALSCALE:GREGORIAN
METHOD:PUBLISH
X-ORIGINAL-URL:https://www.seniorenunion-huerth.de
X-WR-CALDESC:Veranstaltungen für Senioren-Union Hürth
REFRESH-INTERVAL;VALUE=DURATION:PT1H
X-Robots-Tag:noindex
X-PUBLISHED-TTL:PT1H
BEGIN:VTIMEZONE
TZID:Europe/Berlin
BEGIN:DAYLIGHT
TZOFFSETFROM:+0100
TZOFFSETTO:+0200
TZNAME:CEST
DTSTART:20240331T010000
END:DAYLIGHT
BEGIN:STANDARD
TZOFFSETFROM:+0200
TZOFFSETTO:+0100
TZNAME:CET
DTSTART:20241027T010000
END:STANDARD
BEGIN:DAYLIGHT
TZOFFSETFROM:+0100
TZOFFSETTO:+0200
TZNAME:CEST
DTSTART:20250330T010000
END:DAYLIGHT
BEGIN:STANDARD
TZOFFSETFROM:+0200
TZOFFSETTO:+0100
TZNAME:CET
DTSTART:20251026T010000
END:STANDARD
BEGIN:DAYLIGHT
TZOFFSETFROM:+0100
TZOFFSETTO:+0200
TZNAME:CEST
DTSTART:20260329T010000
END:DAYLIGHT
BEGIN:STANDARD
TZOFFSETFROM:+0200
TZOFFSETTO:+0100
TZNAME:CET
DTSTART:20261025T010000
END:STANDARD
END:VTIMEZONE
BEGIN:VEVENT
DTSTART;TZID=Europe/Berlin:20251014T100000
DTEND;TZID=Europe/Berlin:20251014T120000
DTSTAMP:20260424T003729
CREATED:20250921T115006Z
LAST-MODIFIED:20250921T115127Z
UID:3746-1760436000-1760443200@www.seniorenunion-huerth.de
SUMMARY:Vorstandssitzung der Senioren Union im Anna Haus\, Besprechungsraum!
DESCRIPTION:
URL:https://www.seniorenunion-huerth.de/event/vorstandssitzung-im-anna-haus/
END:VEVENT
BEGIN:VEVENT
DTSTART;TZID=Europe/Berlin:20251029T150000
DTEND;TZID=Europe/Berlin:20251029T180000
DTSTAMP:20260424T003729
CREATED:20250921T114843Z
LAST-MODIFIED:20250921T114853Z
UID:3744-1761750000-1761760800@www.seniorenunion-huerth.de
SUMMARY:Einladung zur Besichtigung der Burg Gleuel mit Kurt Schürmann
DESCRIPTION:Eine entsprechende Einladung wir frühzeitig per E-Mail oder Hauspost verschickt!
URL:https://www.seniorenunion-huerth.de/event/einladung-zur-besichtigung-der-burg-gleuel-mit-kurt-schuermann/
END:VEVENT
END:VCALENDAR